BEGIN:VCALENDAR
VERSION:2.0
PRODID:GIGPRESS 2.0 WORDPRESS PLUGIN
CALSCALE:GREGORIAN
X-WR-TIMEZONE:Etc/GMT
METHOD:PUBLISH
BEGIN:VTIMEZONE
TZID:GMT
BEGIN:STANDARD
DTSTART:20071028T010000
TZOFFSETTO:+0000
TZOFFSETFROM:+0000
END:STANDARD
END:VTIMEZONE
BEGIN:VEVENT
SUMMARY:La Farandole Biterroise à Saint Aphrodise
DESCRIPTION:
LOCATION:Saint Aphrodise\, Béziers\, FR
UID:20260426-1773-farandole@poisson2.com
URL:http://www.farandolebiterroise.fr
DTSTART;VALUE=DATE;TZID=GMT:20260426
DTEND;VALUE=DATE;TZID=GMT:20260426
DTSTAMP:20260421T045459Z
END:VEVENT
END:VCALENDAR